BEGIN:VCALENDAR
VERSION:2.0
PRODID:-// - ECPv6.8.3//NONSGML v1.0//EN
CALSCALE:GREGORIAN
METHOD:PUBLISH
X-ORIGINAL-URL:http://www.yorkanddistrictridingclub.co.uk
X-WR-CALDESC:Events for 
REFRESH-INTERVAL;VALUE=DURATION:PT1H
X-Robots-Tag:noindex
X-PUBLISHED-TTL:PT1H
BEGIN:VTIMEZONE
TZID:UTC
BEGIN:STANDARD
TZOFFSETFROM:+0000
TZOFFSETTO:+0000
TZNAME:UTC
DTSTART:20260101T000000
END:STANDARD
END:VTIMEZONE
BEGIN:VEVENT
DTSTART;TZID=UTC:20260501T170000
DTEND;TZID=UTC:20260501T200000
DTSTAMP:20260423T204637
CREATED:20260301T152731Z
LAST-MODIFIED:20260301T160305Z
UID:2289-1777654800-1777665600@www.yorkanddistrictridingclub.co.uk
SUMMARY:Evening Clear Round Show Jumping
DESCRIPTION:Evening Clear Round Show  Jumping to be held at the Club Field. All heights of jumps will be catered for from poles on the floor to any height. There is lots of support and encouragement.  Open to members and non members.  Enter via Horsevents or pay cash on the night.
URL:http://www.yorkanddistrictridingclub.co.uk/?tribe_events=evening-clear-round-show-jumping
LOCATION:YDRC Club Field\, York and District Riding Club\, York\, YO32 2RE
END:VEVENT
BEGIN:VEVENT
DTSTART;TZID=UTC:20260502T100000
DTEND;TZID=UTC:20260502T140000
DTSTAMP:20260423T204637
CREATED:20260301T154131Z
LAST-MODIFIED:20260301T154131Z
UID:2291-1777716000-1777730400@www.yorkanddistrictridingclub.co.uk
SUMMARY:Summer Points Dressage
DESCRIPTION:The summer points Dressage series\, tests Intro-Elementary to be held at the Club Field.  Warm up on grass\, tests to be ridden on our arena.  BD judge. Open to members and non-members. Enter via Horsevents. Coffee and home made cake available in the club house\, super rosettes to 6th place.
URL:http://www.yorkanddistrictridingclub.co.uk/?tribe_events=summer-points-dressage
LOCATION:YDRC Club Field\, York and District Riding Club\, York\, YO32 2RE
END:VEVENT
END:VCALENDAR